BEGIN:VCALENDAR
VERSION:2.0
PRODID:-//Vision City - ECPv6.15.20//NONSGML v1.0//EN
CALSCALE:GREGORIAN
METHOD:PUBLISH
X-WR-CALNAME:Vision City
X-ORIGINAL-URL:https://www.visioncitypng.com
X-WR-CALDESC:Events for Vision City
REFRESH-INTERVAL;VALUE=DURATION:PT1H
X-Robots-Tag:noindex
X-PUBLISHED-TTL:PT1H
BEGIN:VTIMEZONE
TZID:Pacific/Port_Moresby
BEGIN:STANDARD
TZOFFSETFROM:+1000
TZOFFSETTO:+1000
TZNAME:+10
DTSTART:20220101T000000
END:STANDARD
END:VTIMEZONE
BEGIN:VTIMEZONE
TZID:UTC
BEGIN:STANDARD
TZOFFSETFROM:+0000
TZOFFSETTO:+0000
TZNAME:UTC
DTSTART:20200101T000000
END:STANDARD
END:VTIMEZONE
BEGIN:VEVENT
DTSTART;VALUE=DATE:20231201
DTEND;VALUE=DATE:20240101
DTSTAMP:20260421T012110
CREATED:20230602T002053Z
LAST-MODIFIED:20231211T045125Z
UID:18819-1701388800-1704067199@www.visioncitypng.com
SUMMARY:Unleash your inner Anime
DESCRIPTION:From enchanting figures to epic apparel\, we’ve got your fandom covered. Embrace the anime magic at the Couples Street pop-up stall at the New Wing of the mall.
URL:https://www.visioncitypng.com/events/anime-on-the-way/
CATEGORIES:Fashion,Promotions,Sales
ATTACH;FMTTYPE=image/jpeg:https://www.visioncitypng.com/wp-content/uploads/2023/06/couple-street.jpg
END:VEVENT
BEGIN:VEVENT
DTSTART;VALUE=DATE:20231101
DTEND;VALUE=DATE:20231102
DTSTAMP:20260421T012110
CREATED:20231102T003036Z
LAST-MODIFIED:20240207T004032Z
UID:19539-1698796800-1698883199@www.visioncitypng.com
SUMMARY:Redeemable Items
DESCRIPTION:Comfort meets fashion in every stitch. Grab yours now and make a statement from VCGC Redeemable Items. \n  \n#visioncitymegamall #vcgc #jacksofpng
URL:https://www.visioncitypng.com/events/redeemable-items/
CATEGORIES:Fashion,Promotions,Sales
ATTACH;FMTTYPE=image/png:https://www.visioncitypng.com/wp-content/uploads/2023/11/6.png
END:VEVENT
BEGIN:VEVENT
DTSTART;TZID=Pacific/Port_Moresby:20230923T090000
DTEND;TZID=Pacific/Port_Moresby:20230923T180000
DTSTAMP:20260421T012110
CREATED:20230921T003819Z
LAST-MODIFIED:20230921T003845Z
UID:19367-1695459600-1695492000@www.visioncitypng.com
SUMMARY:Unleashing creativity of our Local Artisans
DESCRIPTION:Empowering Communities\, One Handcrafted Treasure at a Time!\n\n\n\nDiscover the Heart and Soul of Local Artisans and Explore the Best of Pom City Markets’ locally made products on Sept. 23\, 2023\, at Vision City Mega Mall Amphitheater.
URL:https://www.visioncitypng.com/events/unleashing-creativity-of-our-local-artisans/
CATEGORIES:Entertainment,Fashion,Promotions,Sales
ATTACH;FMTTYPE=image/jpeg:https://www.visioncitypng.com/wp-content/uploads/2023/09/pom-market.jpg
END:VEVENT
BEGIN:VEVENT
DTSTART;VALUE=DATE:20230819
DTEND;VALUE=DATE:20230820
DTSTAMP:20260421T012110
CREATED:20230804T053123Z
LAST-MODIFIED:20230814T224154Z
UID:19135-1692403200-1692489599@www.visioncitypng.com
SUMMARY:Baby Snuggle
DESCRIPTION:Babies’ needs must combine practicality with comfort\, and charm to meet the needs of these little explorers as they embark on their journey of discovery. From soft fabrics that embrace their delicate skin to thoughtful designs that ensure safety and ease\, Baby Snuggle Nest Shop is a must.\n\n\n \n\n\nCheck them out at the New Wing of the mall today from 9:00 am to 9:00 pm. \n\n\n \n\n\n#visioncitymegamall #snuggle
URL:https://www.visioncitypng.com/events/baby-snuggle/
CATEGORIES:Fashion,Promotions,Sales
ATTACH;FMTTYPE=image/jpeg:https://www.visioncitypng.com/wp-content/uploads/2023/08/Baby-Snuggle-Nest-1.jpg
END:VEVENT
BEGIN:VEVENT
DTSTART;VALUE=DATE:20230725
DTEND;VALUE=DATE:20230728
DTSTAMP:20260421T012110
CREATED:20230724T031737Z
LAST-MODIFIED:20230724T031742Z
UID:19049-1690243200-1690502399@www.visioncitypng.com
SUMMARY:Mid-Year Sale 2023
DESCRIPTION:The best for less. Don’t delay—sales will start on July 25-30\, 2023\n\n\nWho doesn’t love a good deal? Ramp up your day with these Mid-Year Sale at Vision City Mega Mall\n\n\n\nBIG BARGAIN Sale at the Centre of the Mall Schedule from 25-27 July 2023.\nM2 Eyewear\, Maku Gifts\, Marks Travel and Outdoor Sports\, Cherish – Ladies Fashion\, Mi Shop Vision City\, Trophy Haus PNG\, 2 Fast Motors\n\n\nFresh From US\, The One – Mens Gallery\, RH Trading Limited\n\n\n\n\nBIG BARGAIN Sale at the Centre of the Mall Schedule from 28-30\, July 2023.\n\n\nTrophy Haus PNG\, 2 Fast Motors\, Mark’s Travel & Outdoor Sport\, Cherish – Ladies Fashion\, Maku Gifts\, Paradise Pawnshop PNG\,Travel Culture/Eurosports\, Glow Boutique\, Couple Street\, Raggiana Raiments\, Eden Health\, The One\, RH Hypermarket\n\n\n\nSee you!!!\n\nThis event would not be made possible without Visions City’s good sponsors:\nJacks of PNG\, Brian Bell\, Cherish\, Marks\, The One\, 2Fast Motors\, Maku Gifts\, Mumma Cuddles\, Sinowel Group\, Fone Haus\, Food Junction\, Rh Pharmacy\, City Pharmacy\, Sit na Relax\, Colour Boys\, Wintop\, Oasis Trading\, Nohan Pest Control\, Karridalle\, Star Office Works\, CHM\, Moda Essentials\, Trophy Haus\, Jeanswest\, Rapidfones\, PNG Fishing Tackle\, Dynasty Seafood Restaurant\, Korean Garden\, Cuppa cafe\, Yellow captain\, Hogs Breath\, Pro-Secure\, Electrical Wholesalers LTD.\, Leon Hardware City Shop\, Daltron\, Zero waste Management\, Prouds and Pomcity Hair Station.\n\n\n\n\n#visioncitymegamall #midyearsale2023 #vcgc
URL:https://www.visioncitypng.com/events/mid-year-sale-2023/
CATEGORIES:Entertainment,Fashion,Promotions,Sales
ATTACH;FMTTYPE=image/jpeg:https://www.visioncitypng.com/wp-content/uploads/2023/07/mid-year-sale.jpg
END:VEVENT
BEGIN:VEVENT
DTSTART;TZID=Pacific/Port_Moresby:20230706T090000
DTEND;TZID=Pacific/Port_Moresby:20230709T190000
DTSTAMP:20260421T012110
CREATED:20230421T011334Z
LAST-MODIFIED:20230706T012828Z
UID:18561-1688634000-1688929200@www.visioncitypng.com
SUMMARY:Raggiana Raiments
DESCRIPTION:Grab these colourful and unique items from Raggiana Raiments at their pop stall inside the mall. \n  \n 
URL:https://www.visioncitypng.com/events/ivc-bilas-bilum/
CATEGORIES:Fashion,Promotions,Sales
ATTACH;FMTTYPE=image/jpeg:https://www.visioncitypng.com/wp-content/uploads/2023/04/raggiana.jpg
END:VEVENT
BEGIN:VEVENT
DTSTART;TZID=Pacific/Port_Moresby:20230630T090000
DTEND;TZID=Pacific/Port_Moresby:20230630T190000
DTSTAMP:20260421T012110
CREATED:20230622T013803Z
LAST-MODIFIED:20230622T013803Z
UID:18914-1688115600-1688151600@www.visioncitypng.com
SUMMARY:Crafts for everyone
DESCRIPTION:If you love collecting seashells\, these seashell crafts are a great way to have from Isles Crafts pop-up stall at the New Wing of the mall.
URL:https://www.visioncitypng.com/events/crafts-for-everyone/
CATEGORIES:Fashion,Promotions,Sales
ATTACH;FMTTYPE=image/jpeg:https://www.visioncitypng.com/wp-content/uploads/2023/06/isles-crafts.jpg
END:VEVENT
BEGIN:VEVENT
DTSTART;VALUE=DATE:20230526
DTEND;VALUE=DATE:20230529
DTSTAMP:20260421T012110
CREATED:20230413T234202Z
LAST-MODIFIED:20230522T013156Z
UID:18536-1685059200-1685318399@www.visioncitypng.com
SUMMARY:POMCITY HAIR STATION
DESCRIPTION:You’ll find something for everyone you love—including this unique head and temporary nails. \ncheck out Pomcity Hair Station pop-up stall.
URL:https://www.visioncitypng.com/events/pomcity-hair-station/
CATEGORIES:Fashion,Promotions,Sales
ATTACH;FMTTYPE=image/jpeg:https://www.visioncitypng.com/wp-content/uploads/2023/04/face-1-scaled.jpg
END:VEVENT
BEGIN:VEVENT
DTSTART;TZID=Pacific/Port_Moresby:20230421T090000
DTEND;TZID=Pacific/Port_Moresby:20230421T190000
DTSTAMP:20260421T012110
CREATED:20230421T031306Z
LAST-MODIFIED:20230421T031504Z
UID:18570-1682067600-1682103600@www.visioncitypng.com
SUMMARY:IVC Bilas Bilum
DESCRIPTION:Whoa!!! \nReady for IVC Bilas Bilum? Check them out at the New Wing of the mall now.
URL:https://www.visioncitypng.com/events/ivc-bilas-bilum-2/
CATEGORIES:Fashion,Promotions,Sales
ATTACH;FMTTYPE=image/jpeg:https://www.visioncitypng.com/wp-content/uploads/2023/04/ivc-bilas-bilum-1.jpg
END:VEVENT
BEGIN:VEVENT
DTSTART;TZID=Pacific/Port_Moresby:20230311T090000
DTEND;TZID=Pacific/Port_Moresby:20230311T190000
DTSTAMP:20260421T012110
CREATED:20230307T020129Z
LAST-MODIFIED:20230310T003137Z
UID:18330-1678525200-1678561200@www.visioncitypng.com
SUMMARY:My Little Kaukau
DESCRIPTION:Introducing: \nMy Little Kaukau – Providing mamas and babies to this breathable cotton wear.
URL:https://www.visioncitypng.com/events/my-little-kaukau/
CATEGORIES:Fashion,Promotions,Sales
ATTACH;FMTTYPE=image/jpeg:https://www.visioncitypng.com/wp-content/uploads/2023/03/my-little-kaukau.jpg
END:VEVENT
BEGIN:VEVENT
DTSTART;VALUE=DATE:20221004
DTEND;VALUE=DATE:20221017
DTSTAMP:20260421T012110
CREATED:20221003T211833Z
LAST-MODIFIED:20221008T000659Z
UID:17298-1664841600-1665964799@www.visioncitypng.com
SUMMARY:MAKU GIFTS:  NEW PRINTS DESIGN
DESCRIPTION:Congratulations to Ms. Annette Sete and her team of LAVA Girl/ Maku Gifts Shop for winning the Day Wear MPIP Project Runway 2022.\nMaku Gifts will have its October promo in the middle of mall to bring you their NEW prints design – Indoor Leaves & New Hibiscus.  Available NOW!\nNote:  Dates and time may be subject to change without prior notice. \n 
URL:https://www.visioncitypng.com/events/new-prints-design-of-maku-gifts/
LOCATION:Vision City Mega Mall\, Lot 7\,8\,9\, Section 429\, Waigani Drive\, NCD\, POM\, 131\, Papua New Guinea
CATEGORIES:Fashion,Promotions,Sales
ATTACH;FMTTYPE=image/jpeg:https://www.visioncitypng.com/wp-content/uploads/2022/10/IMG-20221004-WA0015.jpg
END:VEVENT
BEGIN:VEVENT
DTSTART;VALUE=DATE:20220518
DTEND;VALUE=DATE:20220522
DTSTAMP:20260421T012110
CREATED:20220510T150315Z
LAST-MODIFIED:20220510T152036Z
UID:16696-1652832000-1653177599@www.visioncitypng.com
SUMMARY:POM Fashion Week 2022
DESCRIPTION:Port Moresby Fashion Week is back better and bigger than ever.\nShowcasing the latest in ready to wear garments from all your favorite retailers at Vision City and around the country!\nJoin us as Port Moresby comes alive!!!
URL:https://www.visioncitypng.com/events/pom-fashion-week-2022/
LOCATION:Vision City Mega Mall\, Lot 7\,8\,9\, Section 429\, Waigani Drive\, NCD\, POM\, 131\, Papua New Guinea
CATEGORIES:Entertainment,Fashion,News,Promotions
END:VEVENT
BEGIN:VEVENT
DTSTART;VALUE=DATE:20210825
DTEND;VALUE=DATE:20210917
DTSTAMP:20260421T012110
CREATED:20210824T152240Z
LAST-MODIFIED:20210824T153009Z
UID:15951-1629849600-1631836799@www.visioncitypng.com
SUMMARY:Jack's of PNG Exclusive Range
DESCRIPTION:PNG INDEPENDENCE EXCLUSIVE RANGE AT JACK’S OF PNG\n2021 marks the 46th Anniversary of our Independence in which it represents a moment in history that symbolize the pride of our nation.\nWe invite you to be part of this precious moment in wearing our 46th Independence exclusive Gold Foil range.\nLet’s be exclusive this Independence with our new edition of Gold Foil PNG Independence range.\nCheck in-store for more PNG independence 2021 merchandize !
URL:https://www.visioncitypng.com/events/png-independence-exclusive-range-at-jacks-of-png/
LOCATION:Vision City Mega Mall\, Lot 7\,8\,9\, Section 429\, Waigani Drive\, NCD\, POM\, 131\, Papua New Guinea
CATEGORIES:Fashion,Promotions,Sales
ATTACH;FMTTYPE=image/jpeg:https://www.visioncitypng.com/wp-content/uploads/2021/08/PNG-Exclusive-range-fb-cover-page-850x450-1-scaled.jpg
END:VEVENT
BEGIN:VEVENT
DTSTART;VALUE=DATE:20210325
DTEND;VALUE=DATE:20210328
DTSTAMP:20260421T012110
CREATED:20210202T204029Z
LAST-MODIFIED:20210318T143630Z
UID:15108-1616630400-1616889599@www.visioncitypng.com
SUMMARY:PORT MORESBY FASHION WEEK - POSTPONED!
DESCRIPTION:PORT MORESBY FASHION WEEK!\nPort Moresby is the centre of the Pacific and a melting pot of different cultures\, traditions and customs. It is where we seamlessly shift from one culture to the next just by simply stepping into the neighbour’s yard\, it is where we see the evolution of traditional art in a contemporary sphere\, it is where we push boundaries and reimagine ourselves\, it is these things and so much more.\nPort Moresby Fashion Week has partnered with an amazing venue partner\, Vision City Mega Mall\, to highlight and show the fantastic artists\, designers and retailers in Port Moresby\, but also to show off the city and its versatility in hosting major concept events that add value and opportunity. Our city is the star of POM Fashion Week. It provides inspiration\, history\, it tells our story and so it will be woven into the fabric of Port Moresby Fashion Week through media\, song\, dance\, performance and art. We are proud to showcase Port Moresby in a new and exciting way.\nHosting Port Moresby Fashion Week is a celebration of the unity in diversity that has shaped this county and especially\, this city\, it allows our people to express themselves in all their diversity on a platform that is accessible and free to the public.
URL:https://www.visioncitypng.com/events/pom-fashion-week/
LOCATION:Vision City Mega Mall\, Lot 7\,8\,9\, Section 429\, Waigani Drive\, NCD\, POM\, 131\, Papua New Guinea
CATEGORIES:Entertainment,Fashion,News,Promotions,Sales
ATTACH;FMTTYPE=image/jpeg:https://www.visioncitypng.com/wp-content/uploads/2021/02/Event-Postponed.jpg
END:VEVENT
END:VCALENDAR